BEGIN:VCALENDAR
VERSION:2.0
PRODID:-//wp-events-plugin.com//7.2.3.1//EN
BEGIN:VEVENT
UID:231@maplesrep.com
DTSTART:20170617T193000Z
DTEND:20170617T203000Z
DTSTAMP:20170309T202042Z
URL:https://maplesrep.com/events/tartuffe-2/
SUMMARY:Tartuffe
DESCRIPTION:When the kind\, yet dim\, Orgon invites the religious zealot kn
 own as Tartuffe into his home\, he has no idea that he has accepted a snak
 e into his den. While Tartuffe acts like a kind minister\, he is — in fa
 ct — a con man plotting to rob Orgon of everything he holds dear! While 
 Orgon becomes hopelessly entranced by Tartuffe\, his family rallies to exp
 ose Tartuffe for the rascal that he is. Will they be able to save the hapl
 ess Orgon from Tartuffe’s clutches? It may take an act of fake seduction
 – and an obvious Deus ex Machina — to help defeat this lascivious hypo
 crite.
LOCATION:Royal Theatre\, 102 N. Rubey Street\, Macon\, Missouri\, 63552\, U
 nited States
GEO:39.7379133;-92.47117700000001
X-APPLE-STRUCTURED-LOCATION;VALUE=URI;X-ADDRESS=102 N. Rubey Street\, Macon
 \, Missouri\, 63552\, United States;X-APPLE-RADIUS=100;X-TITLE=Royal Theat
 re:geo:39.7379133,-92.47117700000001
END:VEVENT
END:VCALENDAR