BEGIN:VCALENDAR
VERSION:2.0
PRODID:-//wp-events-plugin.com//7.2.3.1//EN
BEGIN:VEVENT
UID:379@maplesrep.com
DTSTART:20181011T193000Z
DTEND:20181011T203000Z
DTSTAMP:20181002T175316Z
URL:https://maplesrep.com/events/junie-b-jones-the-musical-5/
SUMMARY:Junie B. Jones: The Musical
DESCRIPTION:Junie B. Jones is one busy first-grader! Between new friends\, 
 getting glasses and not being allowed to play in the kickball tournament\,
  she has a lot going on in this rollicking musical for the whole family.
LOCATION:Royal Theatre\, 102 N. Rubey Street\, Macon\, Missouri\, 63552\, U
 nited States
GEO:39.7379133;-92.47117700000001
X-APPLE-STRUCTURED-LOCATION;VALUE=URI;X-ADDRESS=102 N. Rubey Street\, Macon
 \, Missouri\, 63552\, United States;X-APPLE-RADIUS=100;X-TITLE=Royal Theat
 re:geo:39.7379133,-92.47117700000001
END:VEVENT
END:VCALENDAR