BEGIN:VCALENDAR
VERSION:2.0
PRODID:-//wp-events-plugin.com//7.2.3.1//EN
BEGIN:VEVENT
UID:228@maplesrep.com
DTSTART:20170803T193000Z
DTEND:20170803T210000Z
DTSTAMP:20170309T175547Z
URL:https://maplesrep.com/events/company-cabaret/
SUMMARY:Company Cabaret
DESCRIPTION:Join  us for our semi-annual Cabaret as the actors take the sta
 ge for a unique night of entertainment!
LOCATION:Royal Theatre\, 102 N. Rubey Street\, Macon\, Missouri\, 63552\, U
 nited States
GEO:39.7379133;-92.47117700000001
X-APPLE-STRUCTURED-LOCATION;VALUE=URI;X-ADDRESS=102 N. Rubey Street\, Macon
 \, Missouri\, 63552\, United States;X-APPLE-RADIUS=100;X-TITLE=Royal Theat
 re:geo:39.7379133,-92.47117700000001
END:VEVENT
END:VCALENDAR