BEGIN:VCALENDAR
VERSION:2.0
PRODID:-//wp-events-plugin.com//7.2.3.1//EN
BEGIN:VEVENT
UID:669@maplesrep.com
DTSTART:20211001T193000Z
DTEND:20211001T213000Z
DTSTAMP:20210317T005505Z
URL:https://maplesrep.com/events/cbl-you-smell-barn-2/
SUMMARY:CBL: You Smell Barn
DESCRIPTION:Written by Greta Grosch\nMusic by Dennis Grosch\nLyrics by Denn
 is Curley\, and Greta Grosch\nAfterglow\nThe ladies of the East Cornucopia
  Lutheran Church are famous for keeping the church running and meeting eve
 ry hilarious challenge head on.  The new musical follows them home to see
  how chores family life test their mettle.  It's nothing a hot dish can't
  cure.\n\n&nbsp\;
ATTACH;FMTTYPE=image/jpeg:https://maplesrep.com/wp-content/uploads/2021/02
 /CBL7-Final.png
LOCATION:Royal Theatre\, 102 N. Rubey Street\, Macon\, Missouri\, 63552\, U
 nited States
GEO:39.7379133;-92.47117700000001
X-APPLE-STRUCTURED-LOCATION;VALUE=URI;X-ADDRESS=102 N. Rubey Street\, Macon
 \, Missouri\, 63552\, United States;X-APPLE-RADIUS=100;X-TITLE=Royal Theat
 re:geo:39.7379133,-92.47117700000001
END:VEVENT
END:VCALENDAR