BEGIN:VCALENDAR
VERSION:2.0
PRODID:-//wp-events-plugin.com//7.2.3.1//EN
BEGIN:VEVENT
UID:439@maplesrep.com
DTSTART:20190808T193000Z
DTEND:20190808T213000Z
DTSTAMP:20190515T192514Z
URL:https://maplesrep.com/events/cabaret/
SUMMARY:Cabaret
DESCRIPTION:These semi-annual events are fun evenings of music and comedy. 
 Every member of the company gets a chance to perform their favorite contem
 porary or classic show and holiday tunes.\n2019 Company Cabaret - Thursday
 \, August 8th at 7:30\n2019 Holiday Cabaret - Thursday\, December 12th at 
 7:30\nThis year\, MRT is holding an Ugly Sweater competition during the Ho
 liday Cabaret. Don your gaudiest holiday sweater when you attend the caba
 ret and you could win a prize!
ATTACH;FMTTYPE=image/jpeg:https://maplesrep.com/wp-content/uploads/2018/03
 /company-cabaret.jpg
LOCATION:Royal Theatre\, 102 N. Rubey Street\, Macon\, Missouri\, 63552\, U
 nited States
GEO:39.737911;-92.471176
X-APPLE-STRUCTURED-LOCATION;VALUE=URI;X-ADDRESS=102 N. Rubey Street\, Macon
 \, Missouri\, 63552\, United States;X-APPLE-RADIUS=100;X-TITLE=Royal Theat
 re:geo:39.737911,-92.471176
END:VEVENT
END:VCALENDAR