BEGIN:VCALENDAR
VERSION:2.0
PRODID:-//wp-events-plugin.com//7.2.3.1//EN
BEGIN:VEVENT
UID:227@maplesrep.com
DTSTART:20170603T170000Z
DTEND:20170603T220000Z
DTSTAMP:20170227T180502Z
URL:https://maplesrep.com/events/boots-black-tie-2/
SUMMARY:Boots & Black Tie
DESCRIPTION:At Maples Rep’s annual fundraiser\, Boots and Black Tie\, you
 ’ll be wined and dined while helping to raise money for the theatre. 
LOCATION:Royal Theatre\, 102 N. Rubey Street\, Macon\, Missouri\, 63552\, U
 nited States
GEO:39.7379133;-92.47117700000001
X-APPLE-STRUCTURED-LOCATION;VALUE=URI;X-ADDRESS=102 N. Rubey Street\, Macon
 \, Missouri\, 63552\, United States;X-APPLE-RADIUS=100;X-TITLE=Royal Theat
 re:geo:39.7379133,-92.47117700000001
END:VEVENT
END:VCALENDAR