BEGIN:VCALENDAR
VERSION:2.0
PRODID:-//wp-events-plugin.com//7.2.3.1//EN
BEGIN:VEVENT
UID:666@maplesrep.com
DTSTART;TZID=America/Chicago:20210807T193000
DTEND;TZID=America/Chicago:20210807T213000
DTSTAMP:20210803T191914Z
URL:https://maplesrep.com/events/annie-14/
SUMMARY:ANNIE
DESCRIPTION:Annie\nMusic by: Charles Strouse\nLyrics by: Martin Charnin\nBo
 ok by:  Thomas Meehan\n&nbsp\;\n\nEveryone's favorite orphan takes the Ma
 ples Rep stage to remind us all that optimism and hope will win the day. 
  Featuring a Tony Award-winning score including "Tomorrow" "Maybe" "It's t
 he Hard Knock Life" and "Little Girls".  Annie is a lively\, exuberant sh
 ow loved by all ages.\n\n&nbsp\;
ATTACH;FMTTYPE=image/jpeg:https://maplesrep.com/wp-content/uploads/2021/02
 /Annie-Final.png
LOCATION:Royal Theatre\, 102 N. Rubey Street\, Macon\, Missouri\, 63552\, U
 nited States
GEO:39.7379133;-92.47117700000001
X-APPLE-STRUCTURED-LOCATION;VALUE=URI;X-ADDRESS=102 N. Rubey Street\, Macon
 \, Missouri\, 63552\, United States;X-APPLE-RADIUS=100;X-TITLE=Royal Theat
 re:geo:39.7379133,-92.47117700000001
END:VEVENT
BEGIN:VTIMEZONE
TZID:America/Chicago
X-LIC-LOCATION:America/Chicago
BEGIN:DAYLIGHT
DTSTART:20210314T030000
TZOFFSETFROM:-0600
TZOFFSETTO:-0500
TZNAME:CDT
END:DAYLIGHT
END:VTIMEZONE
END:VCALENDAR