BEGIN:VCALENDAR
VERSION:2.0
PRODID:-//wp-events-plugin.com//7.2.3.1//EN
BEGIN:VEVENT
UID:443@maplesrep.com
DTSTART:20191031T190000Z
DTEND:20191031T210000Z
DTSTAMP:20190515T193233Z
URL:http://maplesrep.com/events/soop-spooks/
SUMMARY:Soups & Spooks
DESCRIPTION:Soup &amp\; Spooks is Maples Rep's annual Halloween celebration
 . Unlimited trips to the soup and snack bar\, free drinks\, and some spook
 tacular entertainment by the company members - all for only $10!\n\nDon't 
 worry\, you don't have to miss out on all those cute little ghouls and gob
 lins ringing your doorbell - Soup &amp\; Spooks starts at 7:00! Head over 
 to the theatre to join us after your candy is all gone and enjoy the treat
  we've got planned for you!
LOCATION:Royal Theatre\, 102 N. Rubey Street\, Macon\, Missouri\, 63552\, U
 nited States
GEO:39.737911;-92.471176
X-APPLE-STRUCTURED-LOCATION;VALUE=URI;X-ADDRESS=102 N. Rubey Street\, Macon
 \, Missouri\, 63552\, United States;X-APPLE-RADIUS=100;X-TITLE=Royal Theat
 re:geo:39.737911,-92.471176
END:VEVENT
END:VCALENDAR