BEGIN:VCALENDAR
VERSION:2.0
PRODID:-//wp-events-plugin.com//7.2.3.1//EN
BEGIN:VEVENT
UID:445@maplesrep.com
DTSTART:20190927T193000Z
DTEND:20190927T213000Z
DTSTAMP:20190515T193531Z
URL:http://maplesrep.com/events/rise-up-o-men-2/
SUMMARY:Rise up\, O Men
DESCRIPTION:by Drew Jansen &amp\; Greta Grosch\nAFTERGLOW\nMen in the Pari
 sh Basement? What’s a church lady to do? “Rise Up O Men” gives the g
 ents a chance to shine in the latest installment of the Church Basement La
 dies musical comedy series. Sixth in the Church Basement Ladies Series\, 
 “Rise Up\, O Men” is a brand new musical comedy featuring the men of t
 he church and your favorite church basement ladies who serve them. As thes
 e hardworking farmers discuss their scrap lumber piles and benefits of wel
 d versus solder\, they unintentionally disrupt the order of the kitchen. B
 ut that’s what happens when you let the rooster in the hen house.
ATTACH;FMTTYPE=image/jpeg:http://maplesrep.com/wp-content/uploads/2018/10/
 CBL-Rise-up-o-men.png
LOCATION:Royal Theatre\, 102 N. Rubey Street\, Macon\, Missouri\, 63552\, U
 nited States
GEO:39.737911;-92.471176
X-APPLE-STRUCTURED-LOCATION;VALUE=URI;X-ADDRESS=102 N. Rubey Street\, Macon
 \, Missouri\, 63552\, United States;X-APPLE-RADIUS=100;X-TITLE=Royal Theat
 re:geo:39.737911,-92.471176
END:VEVENT
END:VCALENDAR