BEGIN:VCALENDAR
VERSION:2.0
PRODID:-//wp-events-plugin.com//7.2.3.1//EN
BEGIN:VEVENT
UID:442@maplesrep.com
DTSTART:20191007T183000Z
DTEND:20191007T220000Z
DTSTAMP:20190814T181636Z
URL:http://maplesrep.com/events/gala-dinner/
SUMMARY:Gala Dinner
DESCRIPTION:Our Annual Gala Dinner is an exclusive\, formal event offered t
 o the first 100 patrons who sign up. Those who attend are treated to a del
 icious\, gourmet six-course meal and entertainment from Maples Rep company
  members.\n\nThe 7th Annual Gala Dinner is planned for Monday\, October 7t
 h\, 2019. The event starts at 6:30PM. If you have questions about this eve
 nt or would like to attend\, please contact the box office at info@maplesr
 ep.com or 660-385-2924.\n\n&nbsp\;
LOCATION:Royal Theatre\, 102 N. Rubey Street\, Macon\, Missouri\, 63552\, U
 nited States
GEO:39.737911;-92.471176
X-APPLE-STRUCTURED-LOCATION;VALUE=URI;X-ADDRESS=102 N. Rubey Street\, Macon
 \, Missouri\, 63552\, United States;X-APPLE-RADIUS=100;X-TITLE=Royal Theat
 re:geo:39.737911,-92.471176
END:VEVENT
END:VCALENDAR