BEGIN:VCALENDAR
VERSION:2.0
PRODID:-//wp-events-plugin.com//7.2.3.1//EN
BEGIN:VEVENT
UID:441@maplesrep.com
DTSTART:20190601T180000Z
DTEND:20190601T213000Z
DTSTAMP:20190515T200853Z
URL:http://maplesrep.com/events/boots-black-tie-3/
SUMMARY:Boots & Black Tie
DESCRIPTION:FM
LOCATION:Royal Theatre\, 102 N. Rubey Street\, Macon\, Missouri\, 63552\, U
 nited States
GEO:39.737911;-92.471176
X-APPLE-STRUCTURED-LOCATION;VALUE=URI;X-ADDRESS=102 N. Rubey Street\, Macon
 \, Missouri\, 63552\, United States;X-APPLE-RADIUS=100;X-TITLE=Royal Theat
 re:geo:39.737911,-92.471176
END:VEVENT
END:VCALENDAR